BEGIN:VCALENDAR
VERSION:2.0
PRODID:-//Múzeum Betliar - ECPv4.6.2//NONSGML v1.0//EN
CALSCALE:GREGORIAN
METHOD:PUBLISH
X-WR-CALNAME:Múzeum Betliar
X-ORIGINAL-URL:http://muzeumbetliar.sk
X-WR-CALDESC:Events for Múzeum Betliar
BEGIN:VEVENT
DTSTART;TZID=UTC+2:20260425T122127
DTEND;TZID=UTC+2:20260425T122127
DTSTAMP:20260425T102127
CREATED:20170422T191020Z
LAST-MODIFIED:20171108T100532Z
UID:1193-1777119687-1777119687@muzeumbetliar.sk
SUMMARY:Podujatia 2016
DESCRIPTION:[vc_row full_width=“stretch_row_content“ css=“.vc_custom_1493124598466{margin-top: -30px !important;}“][vc_column][vc_custom_heading text=“V roku 2016 sme pre vás pripravili tieto podujatia“ font_container=“tag:h2|text_align:center“ use_theme_fonts=“yes“ css=“.vc_custom_1493125807171{margin-top: 35px !important;}“][vc_separator color=“custom“ border_width=“2″ el_width=“10″ accent_color=“#f19100″ el_class=“.sep“ css=“.vc_custom_1493125861151{margin-top: 20px !important;margin-bottom: 55px !important;}“][/vc_column][/vc_row][vc_row full_width=“stretch_row_content“ css=“.vc_custom_1493124518819{margin-bottom: 90px !important;}“][vc_column width=“1/2″][vc_tta_accordion active_section=“0″ collapsible_all=“true“ css=“.vc_custom_1493122002928{margin-bottom: -1px !important;}“][vc_tta_section i_icon_fontawesome=“fa fa-calendar“ title=“Január (0)“ tab_id=“1493110226035-7d36f29d-0c29″ add_icon=“true“][vc_column_text][/vc_column_text][/vc_tta_section][vc_tta_section i_icon_fontawesome=“fa fa-calendar“ title=“Február (0)“ tab_id=“februar-2016″ add_icon=“true“][vc_column_text][/vc_column_text][/vc_tta_section][vc_tta_section i_icon_fontawesome=“fa fa-calendar“ title=“Marec (0)“ tab_id=“1493110848522-75519c30-bfd1″ add_icon=“true“][vc_column_text]Žiadne podujatia v tomto mesiaci[/vc_column_text][/vc_tta_section][vc_tta_section i_icon_fontawesome=“fa fa-calendar“ title=“Apríl (1)“ tab_id=“1493110869774-0d7e3326-b3e9″ add_icon=“true“][vc_column_text]30.04.  Kvetinový a remeselnícky trh[/vc_column_text][/vc_tta_section][vc_tta_section i_icon_fontawesome=“fa fa-calendar“ title=“Máj (1)“ tab_id=“1493110869001-fbb6d9f1-da1c“ add_icon=“true“][vc_column_text]21.05.  Noc múzeí [/vc_column_text][/vc_tta_section][vc_tta_section i_icon_fontawesome=“fa fa-calendar“ title=“Jún (1)“ tab_id=“1493110226865-35138fb4-ba9e“ add_icon=“true“][vc_column_text]10.06.  Žofia – Pani Krásnej Hôrky[/vc_column_text][/vc_tta_section][/vc_tta_accordion][/vc_column][vc_column width=“1/2″][vc_tta_accordion active_section=“-1″ collapsible_all=“true“][vc_tta_section i_icon_fontawesome=“fa fa-calendar“ title=“Júl (2)“ tab_id=“1493110285411-e163003c-21e4″ add_icon=“true“][vc_column_text]23.07.  Piknik\n16.07  Muzikálový večer[/vc_column_text][/vc_tta_section][vc_tta_section i_icon_fontawesome=“fa fa-calendar“ title=“August (1)“ tab_id=“1493110285890-f5148614-8bd9″ add_icon=“true“][vc_column_text]20.08.  Baroková Svadba[/vc_column_text][/vc_tta_section][vc_tta_section i_icon_fontawesome=“fa fa-calendar“ title=“September (0)“ tab_id=“1493110286338-9db2519d-fdad“ add_icon=“true“][vc_column_text]Žiadne podujatia v tomto mesiaci[/vc_column_text][/vc_tta_section][vc_tta_section i_icon_fontawesome=“fa fa-calendar“ title=“Október (0)“ tab_id=“1493111852789-08447242-106a“ add_icon=“true“][vc_column_text]Žiadne podujatia v tomto mesiaci[/vc_column_text][/vc_tta_section][vc_tta_section i_icon_fontawesome=“fa fa-calendar“ title=“November (0)“ tab_id=“1493111851976-b6ac4f30-328b“ add_icon=“true“][vc_column_text]Žiadne podujatia v tomto mesiaci[/vc_column_text][/vc_tta_section][vc_tta_section i_icon_fontawesome=“fa fa-calendar“ title=“December (0)“ tab_id=“1493111851347-862e0be9-c14a“ add_icon=“true“][vc_column_text]Žiadne podujatia v tomto mesiaci[/vc_column_text][/vc_tta_section][/vc_tta_accordion][/vc_column][/vc_row] \n
URL:http://muzeumbetliar.sk/kastiel/podujatia-2016/
END:VEVENT
END:VCALENDAR